Workbook
Name _JJ132: [1]중기일위대가!$J$136
Name _JK132: [1]중기일위대가!$K$136
Name _JN132: [1]중기일위대가!$I$136
Name _PB1: [2]工완성공사율!$A$1:$J$45
Name _PB2: [2]工완성공사율!$K$1:$T$45
Name _PB3: [2]工완성공사율!$U$1:$AD$45
Name alf: [3]개발계획수립!$B$13:$I$131
Name bae: '감리원배치기준(소방감리)'!bae
Name bae: '감리원배치기준(통신감리)'!bae
Name bae: [0]!bae
Name CJFRHD: [4]물가자료!$C$21
Name DANGA: #REF!,#REF!
Name DANGA: #REF!,#REF!
Name DANGA: #REF!,#REF!
Name danga2: #REF!,#REF!
Name danga2: #REF!,#REF!
Name danga2: #REF!,#REF!
Name dsv: [0]!BlankMacro1
Name dsv: [0]!BlankMacro1
Name dsv: [0]!BlankMacro1
Name eee: [0]!BlankMacro1
Name eee: [0]!BlankMacro1
Name eee: [0]!BlankMacro1
Name gu: #REF!,#REF!
Name gu: #REF!,#REF!
Name gu: #REF!,#REF!
Name HIT: '[6]2F 회의실견적(5_14 일대)'!$J$31
Name ID: #REF!,#REF!
Name ID: #REF!,#REF!
Name ID: #REF!,#REF!
Name lll: [0]!BlankMacro1
Name lll: [0]!BlankMacro1
Name lll: [0]!BlankMacro1
Name MONEY: #REF!,#REF!
Name MONEY: #REF!,#REF!
Name MONEY: #REF!,#REF!
Name QQQQQ: [7]내역서!$G$49
Name RT: #REF!,#REF!,#REF!
Name RT: #REF!,#REF!,#REF!
Name RT: #REF!,#REF!,#REF!
Name rty: #REF!,#REF!
Name rty: #REF!,#REF!
Name rty: #REF!,#REF!
Name sr: #REF!,#REF!
Name sr: #REF!,#REF!
Name sr: #REF!,#REF!
Name ST산출: [0]!BlankMacro1
Name ST산출: [0]!BlankMacro1
Name ST산출: [0]!BlankMacro1
Name 가가가: '감리원배치기준(소방감리)'!가가가
Name 가가가: '감리원배치기준(통신감리)'!가가가
Name 가가가: [0]!가가가
Name 가로등: '감리원배치기준(소방감리)'!가로등
Name 가로등: '감리원배치기준(통신감리)'!가로등
Name 가로등: [0]!가로등
Name 가로등부표2: #REF!,#REF!
Name 가로등부표2: #REF!,#REF!
Name 가로등부표2: #REF!,#REF!
Name 가로등입력: '감리원배치기준(소방감리)'!가로등입력
Name 가로등입력: '감리원배치기준(통신감리)'!가로등입력

Sheet 선택
B1: 건설공종구분 | D1: 전력공종구분 | F1: 통신공사 | H1: 소방공사 | J1: 계약방법 | L1: 낙찰방법 | N1: 입찰장소 | P1: 차량 | R1: 사무원 | T1: 국제입찰 | V1: 적용법규 | X1: 지역업체참여 | Z1: 공사성격 | AB1: 용역종류 | AD1: 노랑칸 입력
B2: 1 | D2: 4 | F2: 18 | H2: 3 | J2: 3 | L2: 4 | N2: 1 | P2: 5 | R2: 2 | T2: 1 | V2: 1 | X2: 2 | Z2: 2 | AB2: 1
A3: 1 | B3: 단순한 공종 | C3: 1 | D3: 단순공종 | E3: 1 | F3: 선로설비공사 | G3: 1 | H3: 상주 공사감리 | I3: 1 | J3: PQ심사 | K3: 1 | L3: 적격 | M3: 1 | N3: 본청 | O3: 1 | P3: 미적용 | Q3: 1 | R3: 미적용 | S3: 1 | T3: 국내입찰 | U3: 1 | V3: 국가계약법 | W3: 1 | X3: 적용 | Y3: 1 | Z3: 토목선형 | AA3: 1 | AB3: 감독권한대행 등 건설사업관리
A4: 2 | B4: 보통의 공종 | C4: 2 | D4: 보통공종 | E4: 2 | F4: 교환설비공사 | G4: 2 | H4: 일반공사감리 | I4: 2 | J4: 일반경쟁 | K4: 2 | L4: 견적서제출 | M4: 2 | N4: 서울지방청 | O4: 2 | P4: 1,600cc 1대 | Q4: 2 | R4: 보통인부 1인 | S4: 2 | T4: 국제입찰 | U4: 2 | V4: 지방계약법 | W4: 2 | X4: 미적용 | Y4: 2 | Z4: 토목비선형 | AA4: 2 | AB4: 건설사업관리
A5: 3 | B5: 복잡한 공종 | C5: 3 | D5: 복잡공종 | E5: 3 | F5: 전송설비공사 | G5: 3 | H5: 해당없음 | I5: 3 | J5: 종합심사낙찰제 | K5: 3 | L5: 최저가 | M5: 3 | N5: 부산지방청 | O5: 3 | P5: 1,600cc 2대 | Q5: 3 | R5: 보통인부 2인 | Y5: 3 | Z5: 플랜트Ⅰ(상하수도)
A6: 4 | B6: 해당없음 | C6: 4 | D6: 해당없음 | E6: 4 | F6: 구내통신설비공사 | I6: 4 | J6: 협상 | K6: 4 | L6: 일반경쟁 | M6: 4 | N6: 인천지방청 | O6: 4 | P6: 2,000cc 1대 | Y6: 4 | Z6: 플랜트Ⅱ(발전시설)
E7: 5 | F7: 이동통신설비공사 | I7: 5 | J7: 실적제한 | M7: 5 | N7: 대구지방청 | O7: 5 | P7: 2대
E8: 6 | F8: 위성통신설비공사 | I8: 6 | J8: 수의계약 | M8: 6 | N8: 강원지방청
E9: 7 | F9: 고정무선통신설비공사 | I9: 7 | J9: 수의계약(소액) | M9: 7 | N9: 충북지방청
E10: 8 | F10: 별정통신설비공사 | I10: 8 | J10: 지역제한(서울) | M10: 8 | N10: 전북지방청
E11: 9 | F11: 방송국 설비공사 | I11: 9 | J11: 지역제한(부산) | M11: 9 | N11: 경남지방청
E12: 10 | F12: 방송 전송·선로설비공사 | I12: 10 | J12: 지역제한(대구) | M12: 10 | N12: 제주지방청
E13: 11 | F13: 정보제어·보안설비공사 | I13: 11 | J13: 지역제한(인천) | M13: 11 | N13: 대전지방청
E14: 12 | F14: 정보시스템 설비공사 | I14: 12 | J14: 지역제한(광주)
E15: 13 | F15: 정보매체 설비공사 | I15: 13 | J15: 지역제한(대전)
E16: 14 | F16: 철도 통신·신호설비공사 | I16: 14 | J16: 지역제한(울산)
E17: 15 | F17: 항공 및 항만통신설비공사 | I17: 15 | J17: 지역제한(경기)
E18: 16 | F18: 유시티설비공사 | I18: 16 | J18: 지역제한(경북)
E19: 17 | F19: 정보통신 전용 전기시설설비공사 | I19: 17 | J19: 지역제한(경남)
E20: 18 | F20: 해당없음 | I20: 18 | J20: 지역제한(충북)
I21: 19 | J21: 지역제한(충남)
I22: 20 | J22: 지역제한(강원)
I23: 21 | J23: 지역제한(전북)
I24: 22 | J24: 지역제한(전남)
I25: 23 | J25: 지역제한(제주)
I26: 24 | J26: 기타

Sheet 기술자배치기준 (선형)
B1: 건설사업관리기술자 배치기준 [건설사업관리 대가기준 별표 1] | R1: 노란색 칸에 수치입력 바람
B3: 업무분류체계 | F3: 적용 여부 | G3: 적용 수량 단위 | I3: 기준인원수 (인･일) | J3: 보정계수 | M3: 난이도 | N3: 산출 인원수 (인･일)
B4: 단계 | C4: 기본업무 | I4: 고급 | J4: a | K4: b | L4: c
B5: 공통 업무 | C5: 과업착수준비 | G5: 식 | I5: 7 | N5: =ROUND(PRODUCT(I5:M5,Q5),1) -> 0 | P5: FALSE | Q5: =IF(P5=TRUE,1,0) -> 0
C6: 건설사업관리 업무수행계획서 작성 | G6: 식 | I6: 20.5 | N6: =ROUND(PRODUCT(I6:M6,Q6),1) -> 0 | P6: FALSE | Q6: =IF(P6=TRUE,1,0) -> 0
C7: 건설사업관리 절차서 작성ㆍ운영 | G7: 식 | I7: 27.3 | N7: =ROUND(PRODUCT(I7:M7,Q7),1) -> 0 | P7: FALSE | Q7: =IF(P7=TRUE,1,0) -> 0
C8: 작업분류체계 및 사업번호체계 관리 / 사업정보축적ㆍ관리 | G8: 식 | I8: 22.3 | N8: =ROUND(PRODUCT(I8:M8,Q8),1) -> 0 | P8: FALSE | Q8: =IF(P8=TRUE,1,0) -> 0
C9: 사업정보관리시스템의운영 | G9: 운영 일수 | H9: 814 | I9: 0.3 | J9: =$C$75 -> 0.8 | M9: =$D$83 -> #REF! | N9: =ROUND(PRODUCT(H9:M9,Q9),1) -> #REF! | P9: FALSE | Q9: =IF(P9=TRUE,1,0) -> 0
C10: 클레임 사전분석 | G10: 식 | I10: 31 | N10: =ROUND(PRODUCT(I10:M10,Q10),1) -> 0 | P10: FALSE | Q10: =IF(P10=TRUE,1,0) -> 0
C11: 최종 건설사업관리 보고 | D11: 1) 시공전 단계 | G11: 식 | I11: 27.3 | N11: =ROUND(PRODUCT(I11:M11,Q11),1) -> 0 | P11: FALSE | Q11: =IF(P11=TRUE,1,0) -> 0
D12: 2) 시공 이후 단계 | G12: 식 | I12: 54.6 | N12: =ROUND(PRODUCT(I12:M12,Q12),1) -> 0 | P12: FALSE | Q12: =IF(P12=TRUE,1,0) -> 0
B13: 설계전 단계 | C13: 건설기술용역업체 선정 | G13: 식 | I13: 43.7 | N13: =ROUND(PRODUCT(I13:M13,Q13),1) -> 0 | P13: FALSE | Q13: =IF(P13=TRUE,1,0) -> 0
C14: 사업타당성조사보고서의 적정성 검토 | G14: 식 | I14: 21.6 | L14: =$C$77 -> 1.1 | M14: =M9 -> #REF! | N14: =ROUND(PRODUCT(I14:M14,Q14),1) -> #REF! | P14: FALSE | Q14: =IF(P14=TRUE,1,0) -> 0
C15: 기본계획보고서의 적정성 검토 | G15: 식 | I15: 21.3 | L15: =$C$77 -> 1.1 | M15: =M9 -> #REF! | N15: =ROUND(PRODUCT(I15:M15,Q15),1) -> #REF! | P15: FALSE | Q15: =IF(P15=TRUE,1,0) -> 0
C16: 발주방식(사업수행방식) 결정 지원 | G16: 식 | I16: 31 | N16: =ROUND(PRODUCT(I16:M16,Q16),1) -> 0 | P16: FALSE | Q16: =IF(P16=TRUE,1,0) -> 0
C17: 관리기준공정계획수립 | G17: 식 | I17: 18 | M17: =M9 -> #REF! | N17: =ROUND(PRODUCT(I17:M17,Q17),1) -> #REF! | P17: FALSE | Q17: =IF(P17=TRUE,1,0) -> 0
C18: 총사업비 집행계획수립지원 | G18: 식 | I18: 11.4 | N18: =ROUND(PRODUCT(I18:M18,Q18),1) -> 0 | P18: FALSE | Q18: =IF(P18=TRUE,1,0) -> 0
B19: 기본 설계 단계 | C19: 기본설계 설계자 선정업무 지원 | G19: 식 | I19: 17.1 | N19: =ROUND(PRODUCT(I19:M19,Q19),1) -> 0 | P19: FALSE | Q19: =IF(P19=TRUE,1,0) -> 0
C20: 기본설계 조정 및 연계성 검토 | G20: 용역 개월 | H20: 1 | I20: 3.2 | J20: =$C$75 -> 0.8 | K20: =$C$76 -> 1 | L20: =$C$77 -> 1.1 | M20: =M9 -> #REF! | N20: =ROUND(PRODUCT(H20:M20,Q20),1) -> #REF! | P20: FALSE | Q20: =IF(P20=TRUE,1,0) -> 0
C21: 기본설계단계의 예산검증 및 조정업무 | G21: 식 | I21: 22.5 | J21: =$C$75 -> 0.8 | K21: =$C$76 -> 1 | L21: =$C$77 -> 1.1 | M21: =M9 -> #REF! | N21: =ROUND(PRODUCT(I21:M21,Q21),1) -> #REF! | P21: FALSE | Q21: =IF(P21=TRUE,1,0) -> 0
C22: 기본설계의 경제성(VE) 검토 | G22: 식 | I22: 90.6 | M22: =M9 -> #REF! | N22: =ROUND(PRODUCT(I22:M22,Q22),1) -> #REF! | P22: FALSE | Q22: =IF(P22=TRUE,1,0) -> 0
C23: 기본설계용역성과검토 | G23: 용역 개월 | H23: 1 | I23: 5.7 | J23: =$C$75 -> 0.8 | K23: =$C$76 -> 1 | L23: =$C$77 -> 1.1 | M23: =M9 -> #REF! | N23: =ROUND(PRODUCT(H23:M23,Q23),1) -> #REF! | P23: FALSE | Q23: =IF(P23=TRUE,1,0) -> 0
C24: 기본설계 용역 기성 및 준공검사관리 | G24: 회 | H24: 1 | I24: 3.7 | N24: =ROUND(PRODUCT(H24:M24,Q24),1) -> 0 | P24: FALSE | Q24: =IF(P24=TRUE,1,0) -> 0
C25: 각종 인허가 및 관계기관협의 지원 | G25: 식 | I25: 6.8 | K25: =$C$76 -> 1 | L25: =$C$77 -> 1.1 | N25: =ROUND(PRODUCT(I25:M25,Q25),1) -> 0 | P25: FALSE | Q25: =IF(P25=TRUE,1,0) -> 0
C26: 기본설계단계의 기술설계자문회의 운영 및 관리ㆍ지원 | G26: 회 | H26: 1 | I26: 2.5 | N26: =ROUND(PRODUCT(H26:M26,Q26),1) -> 0 | P26: FALSE | Q26: =IF(P26=TRUE,1,0) -> 0
B27: 실시 설계 단계 | C27: 실시설계 설계자 선정업무 지원 | G27: 식 | I27: 13.9 | N27: =ROUND(PRODUCT(I27:M27,Q27),1) -> 0 | P27: FALSE | Q27: =IF(P27=TRUE,1,0) -> 0
C28: 실시설계 조정 및 연계성 검토 | G28: 용역 개월 | H28: 1 | I28: 5.9 | J28: =$C$75 -> 0.8 | K28: =$C$76 -> 1 | L28: =$C$77 -> 1.1 | M28: =M9 -> #REF! | N28: =ROUND(PRODUCT(H28:M28,Q28),1) -> #REF! | P28: FALSE | Q28: =IF(P28=TRUE,1,0) -> 0
C29: 실시설계단계의 예산검증 및 조정업무 | G29: 식 | I29: 23.3 | J29: =$C$75 -> 0.8 | K29: =$C$76 -> 1 | L29: =$C$77 -> 1.1 | M29: =M9 -> #REF! | N29: =ROUND(PRODUCT(I29:M29,Q29),1) -> #REF! | P29: FALSE | Q29: =IF(P29=TRUE,1,0) -> 0
C30: 실시설계의 경제성(VE) 검토 | G30: 식 | I30: 123.3 | M30: =M9 -> #REF! | N30: =ROUND(PRODUCT(I30:M30,Q30),1) -> #REF! | P30: FALSE | Q30: =IF(P30=TRUE,1,0) -> 0
C31: 실시설계용역성과검토 | G31: 용역 개월 | H31: 1 | I31: 10.5 | J31: =$C$75 -> 0.8 | K31: =$C$76 -> 1 | L31: =$C$77 -> 1.1 | M31: =M9 -> #REF! | N31: =ROUND(PRODUCT(H31:M31,Q31),1) -> #REF! | P31: FALSE | Q31: =IF(P31=TRUE,1,0) -> 0
C32: 실시설계 용역 기성 및 준공검사관리 | G32: 회 | H32: 1 | I32: 8.1 | N32: =ROUND(PRODUCT(H32:M32,Q32),1) -> 0 | P32: FALSE | Q32: =IF(P32=TRUE,1,0) -> 0
C33: 지급자재 조달 및 관리계획 수립 | G33: 식 | I33: 10.2 | N33: =ROUND(PRODUCT(I33:M33,Q33),1) -> 0 | P33: FALSE | Q33: =IF(P33=TRUE,1,0) -> 0
C34: 각종 인허가 및 관계기관협의 지원 | G34: 식 | I34: 8.3 | K34: =$C$76 -> 1 | L34: =$C$77 -> 1.1 | N34: =ROUND(PRODUCT(I34:M34,Q34),1) -> 0 | P34: FALSE | Q34: =IF(P34=TRUE,1,0) -> 0
C35: 실시설계단계의 기술자문회의 운영 및 관리ㆍ지원 | G35: 회 | H35: 1 | I35: 6.4 | N35: =ROUND(PRODUCT(H35:M35,Q35),1) -> 0 | P35: FALSE | Q35: =IF(P35=TRUE,1,0) -> 0
C36: 시공자 선정계획수립 | G36: 식 | I36: 16.9 | N36: =ROUND(PRODUCT(I36:M36,Q36),1) -> 0 | P36: FALSE | Q36: =IF(P36=TRUE,1,0) -> 0
B37: 구매 조달 단계 | C37: 입찰업무지원 | G37: 식 | I37: 37.7 | N37: =ROUND(PRODUCT(I37:M37,Q37),1) -> 0 | P37: FALSE | Q37: =IF(P37=TRUE,1,0) -> 0
C38: 계약업무지원 | G38: 식 | I38: 27.5 | N38: =ROUND(PRODUCT(I38:M38,Q38),1) -> 0 | P38: FALSE | Q38: =IF(P38=TRUE,1,0) -> 0
C39: 지급자재조달지원 | G39: 공사 개월 | H39: =$H$43 -> 22 | I39: 0.6 | N39: =ROUND(PRODUCT(H39:M39,Q39),1) -> 0 | P39: FALSE | Q39: =IF(P39=TRUE,1,0) -> 0
B40: 시공 단계 | C40: 공사착수 | G40: 식 | I40: 107.7 | N40: =ROUND(PRODUCT(I40:M40,Q40),1) -> 107.7 | P40: TRUE | Q40: =IF(P40=TRUE,1,0) -> 1
C41: 시공성과확인 및 검측업무 | G41: 공사 일수 | H41: =$H$42*22 -> 484 | I41: 2.2 | J41: =$C$75 -> 0.8 | K41: =$C$76 -> 1 | M41: =$D$82 -> #REF! | N41: =ROUND(PRODUCT(H41:M41,Q41),1) -> #REF! | P41: TRUE | Q41: =IF(P41=TRUE,1,0) -> 1
...

Sheet 기술자배치기준 (플랜트1_상하수도)
B1: 건설사업관리기술자 배치기준 [건설사업관리 대가기준 별표 1] | R1: 노란색 칸에 수치입력 바람
B3: 업무분류체계 | F3: 적용 여부 | G3: 적용 수량 단위 | I3: 기준인원수 (인･일) | J3: 보정계수 | M3: 난이도 | N3: 산출 인원수 (인･일)
B4: 단계 | C4: 기본업무 | I4: 고급 | J4: a | K4: b | L4: c
B5: 공통 업무 | C5: 과업착수준비 | G5: 식 | I5: 24.2 | N5: =ROUND(PRODUCT(I5:M5,Q5),1) -> 24.2 | P5: TRUE | Q5: =IF(P5=TRUE,1,0) -> 1
C6: 건설사업관리 업무수행계획서 작성ㆍ운영 | G6: 식 | I6: 31.5 | N6: =ROUND(PRODUCT(I6:M6,Q6),1) -> 31.5 | P6: TRUE | Q6: =IF(P6=TRUE,1,0) -> 1
C7: 건설사업관리 절차서 작성ㆍ운영 | G7: 식 | I7: 140.9 | N7: =ROUND(PRODUCT(I7:M7,Q7),1) -> 140.9 | P7: TRUE | Q7: =IF(P7=TRUE,1,0) -> 1
C8: 작업분류체계 및 사업번호체계 관리 / 사업정보축적ㆍ관리 | G8: 식 | I8: 30.6 | M8: =$D$81 -> #REF! | N8: =ROUND(PRODUCT(I8:M8,Q8),1) -> #REF! | P8: FALSE | Q8: =IF(P8=TRUE,1,0) -> 0
C9: 사업정보관리시스템의운영 | G9: 운영 일수 | H9: 704 | I9: 0.3 | J9: =C73 -> 0.88 | M9: =M8 -> #REF! | N9: =ROUND(PRODUCT(H9:M9,Q9),1) -> #REF! | P9: FALSE | Q9: =IF(P9=TRUE,1,0) -> 0
C10: 클레임 사전분석 | G10: 식 | I10: 62.5 | N10: =ROUND(PRODUCT(I10:M10,Q10),1) -> 0 | P10: FALSE | Q10: =IF(P10=TRUE,1,0) -> 0
C11: 최종 건설사업관리 보고 | D11: 1) 시공전 단계 | G11: 식 | I11: 27.3 | N11: =ROUND(PRODUCT(I11:M11,Q11),1) -> 0 | P11: FALSE | Q11: =IF(P11=TRUE,1,0) -> 0
D12: 2) 시공 이후 단계 | G12: 식 | I12: 54.6 | N12: =ROUND(PRODUCT(I12:M12,Q12),1) -> 54.6 | P12: TRUE | Q12: =IF(P12=TRUE,1,0) -> 1
B13: 설계전 단계 | C13: 건설기술용역업체 선정 | G13: 식 | I13: 43.8 | N13: =ROUND(PRODUCT(I13:M13,Q13),1) -> 0 | P13: FALSE | Q13: =IF(P13=TRUE,1,0) -> 0
C14: 사업타당성조사보고서의 적정성 검토 | G14: 식 | I14: 21.7 | L14: =$C$75 -> 1 | M14: =M8 -> #REF! | N14: =ROUND(PRODUCT(I14:M14,Q14),1) -> #REF! | P14: FALSE | Q14: =IF(P14=TRUE,1,0) -> 0
C15: 기본계획보고서의 적정성 검토 | G15: 식 | I15: 21.4 | L15: =L14 -> 1 | M15: =M8 -> #REF! | N15: =ROUND(PRODUCT(I15:M15,Q15),1) -> #REF! | P15: FALSE | Q15: =IF(P15=TRUE,1,0) -> 0
C16: 발주방식(사업수행방식) 결정 지원 | G16: 식 | I16: 31.1 | N16: =ROUND(PRODUCT(I16:M16,Q16),1) -> 0 | P16: FALSE | Q16: =IF(P16=TRUE,1,0) -> 0
C17: 관리기준공정계획수립 | G17: 식 | I17: 18.1 | M17: =M8 -> #REF! | N17: =ROUND(PRODUCT(I17:M17,Q17),1) -> #REF! | P17: FALSE | Q17: =IF(P17=TRUE,1,0) -> 0
C18: 총사업비 집행계획수립지원 | G18: 식 | I18: 11.7 | N18: =ROUND(PRODUCT(I18:M18,Q18),1) -> 0 | P18: FALSE | Q18: =IF(P18=TRUE,1,0) -> 0
B19: 기본 설계 단계 | C19: 기본설계 설계자 선정업무 지원 | G19: 식 | I19: 17.1 | N19: =ROUND(PRODUCT(I19:M19,Q19),1) -> 0 | P19: FALSE | Q19: =IF(P19=TRUE,1,0) -> 0
C20: 기본설계 조정 및 연계성 검토 | G20: 용역 개월 | H20: 1 | I20: 3.2 | J20: =J9 -> 0.88 | K20: =$C$74 -> 1 | L20: =L14 -> 1 | M20: =M8 -> #REF! | N20: =ROUND(PRODUCT(H20:M20,Q20),1) -> #REF! | P20: FALSE | Q20: =IF(P20=TRUE,1,0) -> 0
C21: 기본설계단계의 예산검증 및 조정업무 | G21: 식 | I21: 22.5 | K21: =K20 -> 1 | L21: =L14 -> 1 | M21: =M8 -> #REF! | N21: =ROUND(PRODUCT(I21:M21,Q21),1) -> #REF! | P21: FALSE | Q21: =IF(P21=TRUE,1,0) -> 0
C22: 기본설계의 경제성(VE) 검토 | G22: 식 | I22: 90.6 | M22: =M8 -> #REF! | N22: =ROUND(PRODUCT(I22:M22,Q22),1) -> #REF! | P22: FALSE | Q22: =IF(P22=TRUE,1,0) -> 0
C23: 기본설계용역성과검토 | G23: 용역 개월 | H23: 1 | I23: 5.7 | J23: =J9 -> 0.88 | K23: =K20 -> 1 | L23: =L14 -> 1 | M23: =M8 -> #REF! | N23: =ROUND(PRODUCT(H23:M23,Q23),1) -> #REF! | P23: FALSE | Q23: =IF(P23=TRUE,1,0) -> 0
C24: 기본설계 용역 기성 및 준공검사관리 | G24: 회 | H24: 1 | I24: 3.7 | N24: =ROUND(PRODUCT(H24:M24,Q24),1) -> 0 | P24: FALSE | Q24: =IF(P24=TRUE,1,0) -> 0
C25: 각종 인허가 및 관계기관협의 지원 | G25: 식 | I25: 6.8 | K25: =K20 -> 1 | L25: =L14 -> 1 | N25: =ROUND(PRODUCT(I25:M25,Q25),1) -> 0 | P25: FALSE | Q25: =IF(P25=TRUE,1,0) -> 0
C26: 기본설계단계의 기술자문회의 운영 및 관리 ㆍ지원 | G26: 회 | H26: 1 | I26: 2.5 | N26: =ROUND(PRODUCT(H26:M26,Q26),1) -> 0 | P26: FALSE | Q26: =IF(P26=TRUE,1,0) -> 0
B27: 실시 설계 단계 | C27: 실시설계 설계자 선정업무 지원 | G27: 식 | I27: 13.9 | N27: =ROUND(PRODUCT(I27:M27,Q27),1) -> 0 | P27: FALSE | Q27: =IF(P27=TRUE,1,0) -> 0
C28: 실시설계 조정 및 연계성 검토 | G28: 용역 개월 | H28: 1 | I28: 5.9 | J28: =J9 -> 0.88 | K28: =K20 -> 1 | L28: =L14 -> 1 | M28: =M8 -> #REF! | N28: =ROUND(PRODUCT(H28:M28,Q28),1) -> #REF! | P28: FALSE | Q28: =IF(P28=TRUE,1,0) -> 0
C29: 실시설계단계의 예산검증 및 조정업무 | G29: 식 | I29: 23.3 | J29: =J9 -> 0.88 | K29: =K20 -> 1 | L29: =L14 -> 1 | M29: =M8 -> #REF! | N29: =ROUND(PRODUCT(I29:M29,Q29),1) -> #REF! | P29: FALSE | Q29: =IF(P29=TRUE,1,0) -> 0
C30: 실시설계의 경제성(VE) 검토 | G30: 식 | I30: 123.3 | M30: =M8 -> #REF! | N30: =ROUND(PRODUCT(I30:M30,Q30),1) -> #REF! | P30: FALSE | Q30: =IF(P30=TRUE,1,0) -> 0
C31: 실시설계용역성과검토 | G31: 용역 개월 | H31: 1 | I31: 10.5 | J31: =J9 -> 0.88 | K31: =K20 -> 1 | L31: =L14 -> 1 | M31: =M8 -> #REF! | N31: =ROUND(PRODUCT(H31:M31,Q31),1) -> #REF! | P31: FALSE | Q31: =IF(P31=TRUE,1,0) -> 0
C32: 실시설계 용역 기성 및 준공검사관리 | G32: 회 | H32: 1 | I32: 8.1 | N32: =ROUND(PRODUCT(H32:M32,Q32),1) -> 0 | P32: FALSE | Q32: =IF(P32=TRUE,1,0) -> 0
C33: 지급자재 조달 및 관리계획 수립 | G33: 식 | I33: 10.2 | N33: =ROUND(PRODUCT(I33:M33,Q33),1) -> 0 | P33: FALSE | Q33: =IF(P33=TRUE,1,0) -> 0
C34: 각종 인허가 및 관계기관협의 지원 | G34: 식 | I34: 8.3 | K34: =K20 -> 1 | L34: =L14 -> 1 | N34: =ROUND(PRODUCT(I34:M34,Q34),1) -> 0 | P34: FALSE | Q34: =IF(P34=TRUE,1,0) -> 0
C35: 실시설계단계의 기술자문회의 운영 및 관리 ㆍ지원 | G35: 회 | H35: 1 | I35: 6.4 | N35: =ROUND(PRODUCT(H35:M35,Q35),1) -> 0 | P35: FALSE | Q35: =IF(P35=TRUE,1,0) -> 0
C36: 시공자 선정계획수립 | G36: 식 | I36: 16.9 | N36: =ROUND(PRODUCT(I36:M36,Q36),1) -> 0 | P36: FALSE | Q36: =IF(P36=TRUE,1,0) -> 0
B37: 구매 조달 단계 | C37: 입찰업무지원 | G37: 식 | I37: 63.3 | N37: =ROUND(PRODUCT(I37:M37,Q37),1) -> 0 | P37: FALSE | Q37: =IF(P37=TRUE,1,0) -> 0
C38: 계약업무지원 | G38: 식 | I38: 48.5 | N38: =ROUND(PRODUCT(I38:M38,Q38),1) -> 0 | P38: FALSE | Q38: =IF(P38=TRUE,1,0) -> 0
C39: 지급자재조달지원 | G39: 공사 개월 | H39: =$H$43 -> 19 | I39: 1.5 | N39: =ROUND(PRODUCT(H39:M39,Q39),1) -> 0 | P39: FALSE | Q39: =IF(P39=TRUE,1,0) -> 0
B40: 시공 단계 | C40: 공사착수 | G40: 식 | I40: 122.5 | N40: =ROUND(PRODUCT(I40:M40,Q40),1) -> 122.5 | P40: TRUE | Q40: =IF(P40=TRUE,1,0) -> 1
C41: 시공성과확인 및 검측업무 | G41: 공사 일수 | H41: =$H$42*22 -> 418 | I41: 2.1 | J41: =J9 -> 0.88 | K41: =K20 -> 1 | M41: =$D$80 -> #REF! | N41: =ROUND(PRODUCT(H41:M41,Q41),1) -> #REF! | P41: TRUE | Q41: =IF(P41=TRUE,1,0) -> 1
...

Sheet 기술자배치기준 (플랜트2_발전시설)
B1: 건설사업관리기술자 배치기준 [건설사업관리 대가기준 별표 1] | R1: 노란색 칸에 수치입력 바람
B3: 업무분류체계 | F3: 적용 여부 | G3: 적용 수량 단위 | I3: 기준인원수 (인･일) | J3: 보정계수 | M3: 난이도 | N3: 산출 인원수 (인･일)
B4: 단계 | C4: 기본업무 | I4: 고급 | J4: a | K4: b | L4: c
B5: 공통 업무 | C5: 과업착수준비 | G5: 식 | I5: 24.2 | N5: =ROUND(PRODUCT(I5:M5,Q5),1) -> 24.2 | P5: TRUE | Q5: =IF(P5=TRUE,1,0) -> 1
C6: 건설사업관리 업무수행계획서 작성ㆍ운영 | G6: 식 | I6: 141 | N6: =ROUND(PRODUCT(I6:M6,Q6),1) -> 141 | P6: TRUE | Q6: =IF(P6=TRUE,1,0) -> 1
C7: 건설사업관리 절차서 작성ㆍ운영 | G7: 식 | I7: 210.2 | N7: =ROUND(PRODUCT(I7:M7,Q7),1) -> 210.2 | P7: TRUE | Q7: =IF(P7=TRUE,1,0) -> 1
C8: 작업분류체계 및 사업번호체계 관리 / 사업정보축적ㆍ관리 | G8: 식 | I8: 83 | M8: =D81 -> #REF! | N8: =ROUND(PRODUCT(I8:M8,Q8),1) -> #REF! | P8: TRUE | Q8: =IF(P8=TRUE,1,0) -> 1
C9: 사업정보관리시스템의운영 | G9: 운영 일수 | H9: 20 | I9: 0.3 | J9: =C73 -> 1 | M9: =M8 -> #REF! | N9: =ROUND(PRODUCT(H9:M9,Q9),1) -> #REF! | P9: TRUE | Q9: =IF(P9=TRUE,1,0) -> 1
C10: 클레임 사전분석 | G10: 식 | I10: 62.5 | N10: =ROUND(PRODUCT(I10:M10,Q10),1) -> 62.5 | P10: TRUE | Q10: =IF(P10=TRUE,1,0) -> 1
C11: 최종 건설사업관리 보고 | D11: 1) 시공전 단계 | G11: 식 | I11: 27.3 | N11: =ROUND(PRODUCT(I11:M11,Q11),1) -> 27.3 | P11: TRUE | Q11: =IF(P11=TRUE,1,0) -> 1
D12: 2) 시공 이후 단계 | G12: 식 | I12: 54.6 | N12: =ROUND(PRODUCT(I12:M12,Q12),1) -> 54.6 | P12: TRUE | Q12: =IF(P12=TRUE,1,0) -> 1
B13: 설계전 단계 | C13: 건설기술용역업체 선정 | G13: 식 | I13: 43.8 | N13: =ROUND(PRODUCT(I13:M13,Q13),1) -> 43.8 | P13: TRUE | Q13: =IF(P13=TRUE,1,0) -> 1
C14: 사업타당성조사보고서의 적정성 검토 | G14: 식 | I14: 21.7 | L14: =C75 -> 1 | M14: =M8 -> #REF! | N14: =ROUND(PRODUCT(I14:M14,Q14),1) -> #REF! | P14: TRUE | Q14: =IF(P14=TRUE,1,0) -> 1
C15: 기본계획보고서의 적정성 검토 | G15: 식 | I15: 21.4 | L15: =L14 -> 1 | M15: =M8 -> #REF! | N15: =ROUND(PRODUCT(I15:M15,Q15),1) -> #REF! | P15: TRUE | Q15: =IF(P15=TRUE,1,0) -> 1
C16: 발주방식(사업수행방식) 결정 지원 | G16: 식 | I16: 31.1 | N16: =ROUND(PRODUCT(I16:M16,Q16),1) -> 31.1 | P16: TRUE | Q16: =IF(P16=TRUE,1,0) -> 1
C17: 관리기준공정계획수립 | G17: 식 | I17: 18.1 | M17: =M8 -> #REF! | N17: =ROUND(PRODUCT(I17:M17,Q17),1) -> #REF! | P17: TRUE | Q17: =IF(P17=TRUE,1,0) -> 1
C18: 총사업비 집행계획수립지원 | G18: 식 | I18: 11.7 | N18: =ROUND(PRODUCT(I18:M18,Q18),1) -> 11.7 | P18: TRUE | Q18: =IF(P18=TRUE,1,0) -> 1
B19: 기본 설계 단계 | C19: 기본설계 설계자 선정업무 지원 | G19: 식 | I19: 17.1 | N19: =ROUND(PRODUCT(I19:M19,Q19),1) -> 17.1 | P19: TRUE | Q19: =IF(P19=TRUE,1,0) -> 1
C20: 기본설계 조정 및 연계성 검토 | G20: 용역 개월 | H20: 1 | I20: 3.2 | J20: =J9 -> 1 | K20: =C74 -> 1 | L20: =L14 -> 1 | M20: =M8 -> #REF! | N20: =ROUND(PRODUCT(H20:M20,Q20),1) -> #REF! | P20: TRUE | Q20: =IF(P20=TRUE,1,0) -> 1
C21: 기본설계단계의 예산검증 및 조정업무 | G21: 식 | I21: 22.5 | J21: =J9 -> 1 | K21: =K20 -> 1 | L21: =L14 -> 1 | M21: =M8 -> #REF! | N21: =ROUND(PRODUCT(I21:M21,Q21),1) -> #REF! | P21: TRUE | Q21: =IF(P21=TRUE,1,0) -> 1
C22: 기본설계의 경제성(VE) 검토 | G22: 식 | I22: 90.6 | M22: =M8 -> #REF! | N22: =ROUND(PRODUCT(I22:M22,Q22),1) -> #REF! | P22: TRUE | Q22: =IF(P22=TRUE,1,0) -> 1
C23: 기본설계용역성과검토 | G23: 용역 개월 | H23: 1 | I23: 5.7 | J23: =J9 -> 1 | K23: =K20 -> 1 | L23: =L14 -> 1 | M23: =M8 -> #REF! | N23: =ROUND(PRODUCT(H23:M23,Q23),1) -> #REF! | P23: TRUE | Q23: =IF(P23=TRUE,1,0) -> 1
C24: 기본설계 용역 기성 및 준공검사관리 | G24: 회 | H24: 1 | I24: 3.7 | N24: =ROUND(PRODUCT(H24:M24,Q24),1) -> 3.7 | P24: TRUE | Q24: =IF(P24=TRUE,1,0) -> 1
C25: 각종 인허가 및 관계기관협의 지원 | G25: 식 | I25: 6.8 | K25: =K20 -> 1 | L25: =L14 -> 1 | N25: =ROUND(PRODUCT(I25:M25,Q25),1) -> 6.8 | P25: TRUE | Q25: =IF(P25=TRUE,1,0) -> 1
C26: 기본설계단계 기술자문회의 운영 및 관리 ㆍ지원 | G26: 회 | H26: 1 | I26: 2.5 | N26: =ROUND(PRODUCT(H26:M26,Q26),1) -> 2.5 | P26: TRUE | Q26: =IF(P26=TRUE,1,0) -> 1
B27: 실시 설계 단계 | C27: 실시설계 설계자 선정업무 지원 | G27: 식 | I27: 13.9 | N27: =ROUND(PRODUCT(I27:M27,Q27),1) -> 13.9 | P27: TRUE | Q27: =IF(P27=TRUE,1,0) -> 1
C28: 실시설계 조정 및 연계성 검토 | G28: 용역 개월 | H28: 1 | I28: 5.9 | J28: =J9 -> 1 | K28: =K20 -> 1 | L28: =L14 -> 1 | M28: =M8 -> #REF! | N28: =ROUND(PRODUCT(H28:M28,Q28),1) -> #REF! | P28: TRUE | Q28: =IF(P28=TRUE,1,0) -> 1
C29: 실시설계단계의 예산검증 및 조정업무 | G29: 식 | I29: 23.3 | J29: =J9 -> 1 | K29: =K20 -> 1 | L29: =L14 -> 1 | M29: =M8 -> #REF! | N29: =ROUND(PRODUCT(I29:M29,Q29),1) -> #REF! | P29: TRUE | Q29: =IF(P29=TRUE,1,0) -> 1
C30: 실시설계의 경제성(VE) 검토 | G30: 식 | I30: 123.3 | M30: =M8 -> #REF! | N30: =ROUND(PRODUCT(I30:M30,Q30),1) -> #REF! | P30: TRUE | Q30: =IF(P30=TRUE,1,0) -> 1
C31: 실시설계용역성과검토 | G31: 용역 개월 | H31: 1 | I31: 10.5 | J31: =J9 -> 1 | K31: =K20 -> 1 | L31: =L14 -> 1 | M31: =M8 -> #REF! | N31: =ROUND(PRODUCT(H31:M31,Q31),1) -> #REF! | P31: TRUE | Q31: =IF(P31=TRUE,1,0) -> 1
C32: 실시설계 용역 기성 및 준공검사관리 | G32: 회 | H32: 1 | I32: 8.1 | N32: =ROUND(PRODUCT(H32:M32,Q32),1) -> 8.1 | P32: TRUE | Q32: =IF(P32=TRUE,1,0) -> 1
C33: 지급자재 조달 및 관리계획 수립 | G33: 식 | I33: 10.2 | N33: =ROUND(PRODUCT(I33:M33,Q33),1) -> 10.2 | P33: TRUE | Q33: =IF(P33=TRUE,1,0) -> 1
C34: 각종 인허가 및 관계기관협의 지원 | G34: 식 | I34: 8.3 | K34: =K20 -> 1 | L34: =L14 -> 1 | N34: =ROUND(PRODUCT(I34:M34,Q34),1) -> 8.3 | P34: TRUE | Q34: =IF(P34=TRUE,1,0) -> 1
C35: 실시설계단계의 기술자문회의 운영 및 관리ㆍ지원 | G35: 회 | H35: 1 | I35: 6.4 | N35: =ROUND(PRODUCT(H35:M35,Q35),1) -> 6.4 | P35: TRUE | Q35: =IF(P35=TRUE,1,0) -> 1
C36: 시공자 선정계획수립 | G36: 식 | I36: 16.9 | N36: =ROUND(PRODUCT(I36:M36,Q36),1) -> 16.9 | P36: TRUE | Q36: =IF(P36=TRUE,1,0) -> 1
B37: 구매 조달 단계 | C37: 입찰업무지원 | G37: 식 | I37: 63.3 | N37: =ROUND(PRODUCT(I37:M37,Q37),1) -> 63.3 | P37: TRUE | Q37: =IF(P37=TRUE,1,0) -> 1
C38: 계약업무지원 | G38: 식 | I38: 48.5 | N38: =ROUND(PRODUCT(I38:M38,Q38),1) -> 48.5 | P38: TRUE | Q38: =IF(P38=TRUE,1,0) -> 1
C39: 지급자재조달지원 | G39: 공사 개월 | H39: =$H$43 -> 24 | I39: 1.5 | N39: =ROUND(PRODUCT(H39:M39,Q39),1) -> 36 | P39: TRUE | Q39: =IF(P39=TRUE,1,0) -> 1
B40: 시공 단계 | C40: 공사착수 | G40: 식 | I40: 327.2 | N40: =ROUND(PRODUCT(I40:M40,Q40),1) -> 327.2 | P40: TRUE | Q40: =IF(P40=TRUE,1,0) -> 1
C41: 시공성과확인 및 적정성 검토 | G41: 공사 일수 | H41: =$H$42*22 -> 528 | I41: 2.3 | J41: =J9 -> 1 | K41: =K20 -> 1 | M41: =D80 -> #REF! | N41: =ROUND(PRODUCT(H41:M41,Q41),1) -> #REF! | P41: TRUE | Q41: =IF(P41=TRUE,1,0) -> 1
...

Sheet 감리원배치기준(전력감리)
D2: 전력기술관리법 운영요령 [별표2_전력시설물공사 감리원배치기준]
I3: ■ 전기감리원 배치
D4: 전기공사비 | E4: =#REF! -> #REF! | F4: 원(VAT 포함) | I4: 1) 책임감리원 : 총 공사기간 동안 감리원 배치(별표2 전력시설물공사 감리원배치기준)
E5: =#REF!/1.1/10^8 -> #REF! | F5: 억원 | I5: - 산출인월수가 충족하지 않을경우 산출인월수 이상 배치
D6: 공종구분 | E6: =IF(선택!D2=4,선택!D6,VLOOKUP(선택!D2,선택!C3:D5,2,0)) -> 해당없음 | I6: - 산출인월수가 총공사기간 동안 5인이상 배치될 경우 5인 초과분은 조정 가능
I7: 2) 공동주택 등 배치기준(별표2의2 공동주택 등의 감리원 배치기준)
D8: 산출인월수 | E8: =IF(선택!D2=4,선택!D6,IF(E5>=500,G50,IF(E5<=0.4,ROUND(E50-((E5-E49)*(E50-F50))/(F49-E49),2),ROUND(E50-((E5-E49)*(E50-F50))/(F49-E49),1)))) -> 해당없음 | F8: 인월 | I8: 가) 공동주택
D9: (고급감리원) | I9: - 300세대 미만 : 1) 기준 적용
I10: - 300세대 이상 800세대 미만 : 책임감리원 1명을 포함한 1명 이상을 총 공사기간동안 배치
G11: (단위:억원, 인·월) | I11: - 800세대 이상 : 책임감리원(총 공사기간), 보조감리원(1명 이상 총공사기간 대비 50% 이상배치 + 400세대 추가시 마다 총 공사기간 대비 50% 추가 배치)
A12: 판정1 | B12: 판정2 | D12: 공사비 | E12: 단순공종 | F12: 보통공종 | G12: 복잡공종 | I12: 나) 건축물(2개 이상 건물은 연면적 합산)
A13: =IF(D13<=$E$5,"X","O") -> #REF! | B13: =IF(A14="O","O","X") -> #REF! | D13: 0.05 | E13: 0.17 | F13: 0.18 | G13: 0.2 | I13: - 연면적 10,000㎡ 미만 : 1) 기준 적용
A14: =IF(D14<=$E$5,"X",IF(D13>$E$5,"X","O")) -> #REF! | B14: =IF(A15="O","O","X") -> #REF! | D14: 0.1 | E14: 0.28 | F14: 0.31 | G14: 0.34 | I14: - 연면적 10,000㎡ ~ 30,000㎡ 미만 : 책임감리원 1명을 포함한 1명 이상을 총 공사기간동안 배치
A15: =IF(D15<=$E$5,"X",IF(D14>$E$5,"X","O")) -> #REF! | B15: =IF(A16="O","O","X") -> #REF! | D15: 0.2 | E15: 0.48 | F15: 0.53 | G15: 0.59 | I15: - 연면적 30,000㎡ 이상 : 책임감리원(총 공사기간), 보조감리원(1명 이상 총공사기간 대비 50% 이상배치 + 20,000㎡ 추가시 마다 총 공사기간 대비 50% 추가 배치)
A16: =IF(D16<=$E$5,"X",IF(D15>$E$5,"X","O")) -> #REF! | B16: =IF(A17="O","O","X") -> #REF! | D16: 0.3 | E16: 0.66 | F16: 0.73 | G16: 0.8 | I16: 다) 총 공사기간 배치 보조감리원이 3인 이상인 경우(2,800세대 이상, 연면적 13,000㎡ 이상) 인원 조정 가능, 단 보조감리원 1명은 고급감리원 등급 이상
A17: =IF(D17<=$E$5,"X",IF(D16>$E$5,"X","O")) -> #REF! | B17: =IF(A18="O","O","X") -> #REF! | D17: 0.4 | E17: 0.82 | F17: 0.9 | G17: 1 | I17: 3) 비상주감리원의 직접인건비
A18: =IF(D18<=$E$5,"X",IF(D17>$E$5,"X","O")) -> #REF! | B18: =IF(A19="O","O","X") -> #REF! | D18: 0.5 | E18: 1 | F18: 1.1 | G18: 1.2 | I18: - 원칙 : 감리원 직접인건비의 20% 범위
A19: =IF(D19<=$E$5,"X",IF(D18>$E$5,"X","O")) -> #REF! | B19: =IF(A20="O","O","X") -> #REF! | D19: 0.6 | E19: 1.1 | F19: 1.2 | G19: 1.4 | I19: - 공동주택 등 건축물 : 감리원 직접인건비의 10% 범위
A20: =IF(D20<=$E$5,"X",IF(D19>$E$5,"X","O")) -> #REF! | B20: =IF(A21="O","O","X") -> #REF! | D20: 0.7 | E20: 1.3 | F20: 1.4 | G20: 1.5 | I20: 3) 책임감리원 및 보조감리원의 자격(전력기술관리법 시행령 별표3)
A21: =IF(D21<=$E$5,"X",IF(D20>$E$5,"X","O")) -> #REF! | B21: =IF(A22="O","O","X") -> #REF! | D21: 0.8 | E21: 1.4 | F21: 1.5 | G21: 1.7
A22: =IF(D22<=$E$5,"X",IF(D21>$E$5,"X","O")) -> #REF! | B22: =IF(A23="O","O","X") -> #REF! | D22: 0.9 | E22: 1.5 | F22: 1.7 | G22: 1.9
A23: =IF(D23<=$E$5,"X",IF(D22>$E$5,"X","O")) -> #REF! | B23: =IF(A24="O","O","X") -> #REF! | D23: 1 | E23: 1.7 | F23: 1.8 | G23: 2
A24: =IF(D24<=$E$5,"X",IF(D23>$E$5,"X","O")) -> #REF! | B24: =IF(A25="O","O","X") -> #REF! | D24: 2 | E24: 2.8 | F24: 3.1 | G24: 3.4
A25: =IF(D25<=$E$5,"X",IF(D24>$E$5,"X","O")) -> #REF! | B25: =IF(A26="O","O","X") -> #REF! | D25: 3 | E25: 3.9 | F25: 4.3 | G25: 4.7
A26: =IF(D26<=$E$5,"X",IF(D25>$E$5,"X","O")) -> #REF! | B26: =IF(A27="O","O","X") -> #REF! | D26: 4 | E26: 4.8 | F26: 5.3 | G26: 5.9
A27: =IF(D27<=$E$5,"X",IF(D26>$E$5,"X","O")) -> #REF! | B27: =IF(A28="O","O","X") -> #REF! | D27: 5 | E27: 5.7 | F27: 6.3 | G27: 7
A28: =IF(D28<=$E$5,"X",IF(D27>$E$5,"X","O")) -> #REF! | B28: =IF(A29="O","O","X") -> #REF! | D28: 6 | E28: 6.6 | F28: 7.3 | G28: 8
A29: =IF(D29<=$E$5,"X",IF(D28>$E$5,"X","O")) -> #REF! | B29: =IF(A30="O","O","X") -> #REF! | D29: 7 | E29: 7.4 | F29: 8.2 | G29: 9
A30: =IF(D30<=$E$5,"X",IF(D29>$E$5,"X","O")) -> #REF! | B30: =IF(A31="O","O","X") -> #REF! | D30: 8 | E30: 8.2 | F30: 9.1 | G30: 10
A31: =IF(D31<=$E$5,"X",IF(D30>$E$5,"X","O")) -> #REF! | B31: =IF(A32="O","O","X") -> #REF! | D31: 9 | E31: 9 | F31: 10 | G31: 11
A32: =IF(D32<=$E$5,"X",IF(D31>$E$5,"X","O")) -> #REF! | B32: =IF(A33="O","O","X") -> #REF! | D32: 10 | E32: 9.7 | F32: 10.8 | G32: 11.9
... A42: =IF(D42<=$E$5,"X",IF(D41>$E$5,"X","O")) -> #REF! | B42: =IF(A43="O","O","X") -> X | D42: 500 | E42: 197 | F42: 218.9 | G42: 240.8
D44: 공사비 | E44: 단순공종 | F44: 보통공종 | G44: 복잡공종
D45: =VLOOKUP("O",B12:G42,3,0) -> #N/A | E45: =VLOOKUP("O",B12:G42,4,0) -> #N/A | F45: =VLOOKUP("O",B12:G42,5,0) -> #N/A | G45: =VLOOKUP("O",B12:G42,6,0) -> #N/A
D46: =VLOOKUP("O",A12:D42,4,0) -> #N/A | E46: =VLOOKUP("O",A12:G42,5,0) -> #N/A | F46: =VLOOKUP("O",A12:G42,6,0) -> #N/A | G46: =VLOOKUP("O",A12:G42,7,0) -> #N/A
D47: 500초과 | E47: =ROUND(1.84*($E$5^0.769)*0.9,1) -> #REF! | F47: =ROUND(1.84*($E$5^0.769)*1,1) -> #REF! | G47: =ROUND(1.84*($E$5^0.769)*1.1,1) -> #REF!
E49: =D45 -> #N/A | F49: =D46 -> #N/A | G49: =D47 -> 500초과
D50: =E6 -> 해당없음 | E50: =HLOOKUP(D50,E44:G47,2,0) -> #N/A | F50: =HLOOKUP(D50,E44:G47,3,0) -> #N/A | G50: =HLOOKUP(D50,E44:G47,4,0) -> #N/A

Sheet 감리원배치기준(통신감리)
B2: 정보통신설비 감리대가[한국엔지니어링협회, 2009.5.]
G3: 1. 통신설비공사
B4: 전기공사비 | C4: =#REF! -> #REF! | D4: 원(VAT 포함) | G4: 선로설비공사 | H4: 이하(공사비)
C5: =#REF!/1.1/10^8 -> #REF! | D5: 억원 | G5: 판정2 | H5: =IF(H7<=$C$5,"X","O") -> #REF! | I5: =IF(I7<=$C$5,"X",IF(H7>$C$5,"X","O")) -> #REF! | J5: =IF(J7<=$C$5,"X",IF(I7>$C$5,"X","O")) -> #REF! | K5: =IF(K7<=$C$5,"X",IF(J7>$C$5,"X","O")) -> #REF! | L5: =IF(L7<=$C$5,"X",IF(K7>$C$5,"X","O")) -> #REF! | M5: =IF(M7<=$C$5,"X",IF(L7>$C$5,"X","O")) -> #REF! | N5: =IF(N7<=$C$5,"X",IF(M7>$C$5,"X","O")) -> #REF! | O5: =IF(O7<=$C$5,"X",IF(N7>$C$5,"X","O")) -> #REF! | P5: =IF(P7<=$C$5,"X",IF(O7>$C$5,"X","O")) -> #REF! | ... T5: =IF(T7<=$C$5,"X",IF(S7>$C$5,"X","O")) -> #REF!
B6: 공종구분 | C6: =IF(선택!F2=18,선택!F20,VLOOKUP(선택!F2,선택!E3:F20,2,0)) -> 해당없음 | G6: 판장3 | H6: =IF(I5="O","O",IF(H5="O","O","X")) -> #REF! | I6: =IF(J5="O","O","X") -> #REF! | J6: =IF(K5="O","O","X") -> #REF! | K6: =IF(L5="O","O","X") -> #REF! | L6: =IF(M5="O","O","X") -> #REF! | M6: =IF(N5="O","O","X") -> #REF! | N6: =IF(O5="O","O","X") -> #REF! | O6: =IF(P5="O","O","X") -> #REF! | P6: =IF(Q5="O","O","X") -> #REF! | ... T6: =IF(U5="O","O","X") -> X
G7: 공사비(억원) | H7: 0.3 | I7: 0.5 | J7: 1 | K7: 2 | L7: 3 | M7: 5 | N7: 10 | O7: 20 | P7: 30 | Q7: 50 | R7: 100 | S7: 200 | T7: 300 | U7: 300초과
B8: 산출인월수 | C8: =IF(선택!F2=18,선택!F20,IF(I94="초과",C17,(C15+((C5-B15)*(C15-C16)/(B15-B16))))) -> 해당없음 | D8: 인월 | G8: 고급기준(인·월) | H8: 0.7 | I8: 1 | J8: 1.7 | K8: 3 | L8: 4 | M8: 6 | N8: 10.2 | O8: 17.4 | P8: 23.7 | Q8: 35 | R8: 59.5 | S8: 101.2 | T8: 138 | U8: =1.7499*($C$5)^0.7658 -> #REF!
B9: (고급감리원) | G9: 교환설비공사
G10: 판정2 | H10: =IF(H12<=$C$5,"X","O") -> #REF! | I10: =IF(I12<=$C$5,"X",IF(H12>$C$5,"X","O")) -> #REF! | J10: =IF(J12<=$C$5,"X",IF(I12>$C$5,"X","O")) -> #REF! | K10: =IF(K12<=$C$5,"X",IF(J12>$C$5,"X","O")) -> #REF! | L10: =IF(L12<=$C$5,"X",IF(K12>$C$5,"X","O")) -> #REF! | M10: =IF(M12<=$C$5,"X",IF(L12>$C$5,"X","O")) -> #REF! | N10: =IF(N12<=$C$5,"X",IF(M12>$C$5,"X","O")) -> #REF! | O10: =IF(O12<=$C$5,"X",IF(N12>$C$5,"X","O")) -> #REF! | P10: =IF(P12<=$C$5,"X",IF(O12>$C$5,"X","O")) -> #REF! | ... S10: =IF(S12<=$C$5,"X",IF(R12>$C$5,"X","O")) -> #REF!
B11: 상주감리원 | C11: =C8-C12 -> #VALUE! | D11: 인월 | G11: 판장3 | H11: =IF(I10="O","O","X") -> #REF! | I11: =IF(J10="O","O","X") -> #REF! | J11: =IF(K10="O","O","X") -> #REF! | K11: =IF(L10="O","O","X") -> #REF! | L11: =IF(M10="O","O","X") -> #REF! | M11: =IF(N10="O","O","X") -> #REF! | N11: =IF(O10="O","O","X") -> #REF! | O11: =IF(P10="O","O","X") -> #REF! | ... S11: =IF(T10="O","O","X") -> X
B12: 비상주감리원 | C12: =C8*0.2 -> #VALUE! | E12: 0.2 | G12: 공사비(억원) | H12: 0.3 | I12: 0.5 | J12: 1 | K12: 2 | L12: 3 | M12: 5 | N12: 10 | O12: 20 | P12: 30 | Q12: 50 | R12: 100 | S12: 200 | T12: 200초과
G13: 고급기준(인·월) | H13: 0.6 | I13: 0.8 | J13: 1.1 | K13: 2.4 | L13: 3.3 | M13: 4.9 | N13: 8.3 | O13: 14.1 | P13: 19.2 | Q13: 28.4 | R13: 48.2 | S13: 82 | T13: =ROUND(1.4174*($C$5)^0.7658,1) -> #REF!
B14: 공사비 | C14: 인·월 | G14: 전송설비공사
B15: =IF(C6=G4,HLOOKUP("O",H5:T8,3,0),IF(C6=G9,HLOOKUP("O",H10:S13,3,0),IF(C6=G14,HLOOKUP("O",H15:S18,3,0),IF(C6=G19,HLOOKUP("O",H20:Y23,3,0),IF(C6=G24,HLOOKUP("O",H25:S28,3,0),IF(C6=G29,HLOOKUP("O",H30:T33,3,0),IF(C6=G34,HLOOKUP("O",H35:S38,3,0),IF(C6=G39,HLOOKUP("O",H40:R43,3,0),IF(C6=G45,HLOOKUP("O",H46:U49,3,0),IF(C6=G50,HLOOKUP("O",H51:Q54,3,0),IF(C6=G56,HLOOKUP("O",H57:U60,3,0),IF(C6=G61,HLOOKUP("O",H62:U65,3,0),IF(C6=G66,HLOOKUP("O",H67:T70,3,0),IF(C6=G71,HLOOKUP("O",H72:T75,3,0),IF(C6=G76,HLOOKUP("O",H77:U80,3,0),IF(C6=G82,HLOOKUP("O",H83:S86,3,0),HLOOKUP("O",H89:R92,3,0))))))))))))))))) -> #N/A | C15: =IF(C6=G4,HLOOKUP("O",H5:T8,4,0),IF(C6=G9,HLOOKUP("O",H10:S13,4,0),IF(C6=G14,HLOOKUP("O",H15:S18,4,0),IF(C6=G19,HLOOKUP("O",H20:Y23,4,0),IF(C6=G24,HLOOKUP("O",H25:S28,4,0),IF(C6=G29,HLOOKUP("O",H30:T33,4,0),IF(C6=G34,HLOOKUP("O",H35:S38,4,0),IF(C6=G39,HLOOKUP("O",H40:R43,4,0),IF(C6=G45,HLOOKUP("O",H46:U49,4,0),IF(C6=G50,HLOOKUP("O",H51:Q54,4,0),IF(C6=G56,HLOOKUP("O",H57:U60,4,0),IF(C6=G61,HLOOKUP("O",H62:U65,4,0),IF(C6=G66,HLOOKUP("O",H67:T70,4,0),IF(C6=G71,HLOOKUP("O",H72:T75,4,0),IF(C6=G76,HLOOKUP("O",H77:U80,4,0),IF(C6=G82,HLOOKUP("O",H83:S86,4,0),HLOOKUP("O",H89:R92,4,0))))))))))))))))) -> #N/A | G15: 판정2 | H15: =IF(H17<=$C$5,"X","O") -> #REF! | I15: =IF(I17<=$C$5,"X",IF(H17>$C$5,"X","O")) -> #REF! | J15: =IF(J17<=$C$5,"X",IF(I17>$C$5,"X","O")) -> #REF! | K15: =IF(K17<=$C$5,"X",IF(J17>$C$5,"X","O")) -> #REF! | L15: =IF(L17<=$C$5,"X",IF(K17>$C$5,"X","O")) -> #REF! | M15: =IF(M17<=$C$5,"X",IF(L17>$C$5,"X","O")) -> #REF! | N15: =IF(N17<=$C$5,"X",IF(M17>$C$5,"X","O")) -> #REF! | O15: =IF(O17<=$C$5,"X",IF(N17>$C$5,"X","O")) -> #REF! | P15: =IF(P17<=$C$5,"X",IF(O17>$C$5,"X","O")) -> #REF! | ... S15: =IF(S17<=$C$5,"X",IF(R17>$C$5,"X","O")) -> #REF!
B16: =IF(C6=G4,HLOOKUP("O",H6:T8,2,0),IF(C6=G9,HLOOKUP("O",H11:S13,2,0),IF(C6=G14,HLOOKUP("O",H16:S18,2,0),IF(C6=G19,HLOOKUP("O",H21:Y23,2,0),IF(C6=G24,HLOOKUP("O",H26:S28,2,0),IF(C6=G29,HLOOKUP("O",H31:T33,2,0),IF(C6=G34,HLOOKUP("O",H36:S38,2,0),IF(C6=G39,HLOOKUP("O",H41:R43,2,0),IF(C6=G45,HLOOKUP("O",H47:U49,2,0),IF(C6=G50,HLOOKUP("O",H52:Q54,2,0),IF(C6=G56,HLOOKUP("O",H58:U60,2,0),IF(C6=G61,HLOOKUP("O",H63:U65,2,0),IF(C6=G66,HLOOKUP("O",H68:T70,2,0),IF(C6=G71,HLOOKUP("O",H73:T75,2,0),IF(C6=G76,HLOOKUP("O",H78:U80,2,0),IF(C6=G82,HLOOKUP("O",H84:S86,2,0),HLOOKUP("O",H90:R92,2,0))))))))))))))))) -> #N/A | C16: =IF(C6=G4,HLOOKUP("O",H6:T8,3,0),IF(C6=G9,HLOOKUP("O",H11:S13,3,0),IF(C6=G14,HLOOKUP("O",H16:S18,3,0),IF(C6=G19,HLOOKUP("O",H21:Y23,3,0),IF(C6=G24,HLOOKUP("O",H26:S28,3,0),IF(C6=G29,HLOOKUP("O",H31:T33,3,0),IF(C6=G34,HLOOKUP("O",H36:S38,3,0),IF(C6=G39,HLOOKUP("O",H41:R43,3,0),IF(C6=G45,HLOOKUP("O",H47:U49,3,0),IF(C6=G50,HLOOKUP("O",H52:Q54,3,0),IF(C6=G56,HLOOKUP("O",H58:U60,3,0),IF(C6=G61,HLOOKUP("O",H63:U65,3,0),IF(C6=G66,HLOOKUP("O",H68:T70,3,0),IF(C6=G71,HLOOKUP("O",H73:T75,3,0),IF(C6=G76,HLOOKUP("O",H78:U80,3,0),IF(C6=G82,HLOOKUP("O",H84:S86,3,0),HLOOKUP("O",H90:R92,3,0))))))))))))))))) -> #N/A | G16: 판장3 | H16: =IF(I15="O","O","X") -> #REF! | I16: =IF(J15="O","O","X") -> #REF! | J16: =IF(K15="O","O","X") -> #REF! | K16: =IF(L15="O","O","X") -> #REF! | L16: =IF(M15="O","O","X") -> #REF! | M16: =IF(N15="O","O","X") -> #REF! | N16: =IF(O15="O","O","X") -> #REF! | O16: =IF(P15="O","O","X") -> #REF! | ... S16: =IF(T15="O","O","X") -> X
B17: 초과 | C17: =IF(C6=G4,U8,IF(C6=G9,T13,IF(C6=G14,T18,IF(C6=G19,Z23,IF(C6=G24,T28,IF(C6=G29,U33,IF(C6=G34,T38,IF(C6=G39,S43,IF(C6=G45,V49,IF(C6=G50,R54,IF(C6=G56,V60,IF(C6=G61,V65,IF(C6=G66,U70,IF(C6=G71,U75,IF(C6=G76,V80,IF(C6=G82,T86,S92)))))))))))))))) -> #REF! | G17: 공사비(억원) | H17: 0.3 | I17: 0.5 | J17: 1 | K17: 2 | L17: 3 | M17: 5 | N17: 10 | O17: 20 | P17: 30 | Q17: 50 | R17: 100 | S17: 200 | T17: 200초과
G18: 고급기준(인·월) | H18: 0.6 | I18: 0.8 | J18: 1.1 | K18: 2.4 | L18: 3.3 | M18: 4.9 | N18: 8.3 | O18: 14.1 | P18: 19.2 | Q18: 28.4 | R18: 48.2 | S18: 82 | T18: =1.4174*($C$5)^0.7658 -> #REF!
G19: 구내통신설비공사
G20: 판정2 | H20: =IF(H22<=$C$5,"X","O") -> #REF! | I20: =IF(I22<=$C$5,"X",IF(H22>$C$5,"X","O")) -> #REF! | J20: =IF(J22<=$C$5,"X",IF(I22>$C$5,"X","O")) -> #REF! | K20: =IF(K22<=$C$5,"X",IF(J22>$C$5,"X","O")) -> #REF! | L20: =IF(L22<=$C$5,"X",IF(K22>$C$5,"X","O")) -> #REF! | M20: =IF(M22<=$C$5,"X",IF(L22>$C$5,"X","O")) -> #REF! | N20: =IF(N22<=$C$5,"X",IF(M22>$C$5,"X","O")) -> #REF! | O20: =IF(O22<=$C$5,"X",IF(N22>$C$5,"X","O")) -> #REF! | P20: =IF(P22<=$C$5,"X",IF(O22>$C$5,"X","O")) -> #REF! | ... Y20: =IF(Y22<=$C$5,"X",IF(X22>$C$5,"X","O")) -> #REF!
G21: 판장3 | H21: =IF(I20="O","O","X") -> #REF! | I21: =IF(J20="O","O","X") -> #REF! | J21: =IF(K20="O","O","X") -> #REF! | K21: =IF(L20="O","O","X") -> #REF! | L21: =IF(M20="O","O","X") -> #REF! | M21: =IF(N20="O","O","X") -> #REF! | N21: =IF(O20="O","O","X") -> #REF! | O21: =IF(P20="O","O","X") -> #REF! | ... Y21: =IF(Z20="O","O","X") -> X
G22: 공사비(억원) | H22: 0.3 | I22: 0.5 | J22: 1 | K22: 2 | L22: 3 | M22: 5 | N22: 10 | O22: 20 | P22: 30 | Q22: 40 | R22: 50 | S22: 60 | T22: 70 | U22: 80 | V22: 90 | W22: 100 | X22: 200 | Y22: 300 | Z22: 300초과
G23: 고급기준(인·월) | H23: 0.6 | I23: 0.8 | J23: 1.4 | K23: 2.4 | L23: 3.3 | M23: 4.8 | N23: 8.2 | O23: 13.9 | P23: 19 | Q23: 23.7 | R23: 28.1 | S23: 32.3 | T23: 36.4 | U23: 40.3 | V23: 44.1 | W23: 47.8 | X23: 81.3 | Y23: 110.8 | Z23: =1.4052*($C$5)^0.7658 -> #REF!
G24: 이동통신설비
G25: 판정2 | H25: =IF(H27<=$C$5,"X","O") -> #REF! | I25: =IF(I27<=$C$5,"X",IF(H27>$C$5,"X","O")) -> #REF! | J25: =IF(J27<=$C$5,"X",IF(I27>$C$5,"X","O")) -> #REF! | K25: =IF(K27<=$C$5,"X",IF(J27>$C$5,"X","O")) -> #REF! | L25: =IF(L27<=$C$5,"X",IF(K27>$C$5,"X","O")) -> #REF! | M25: =IF(M27<=$C$5,"X",IF(L27>$C$5,"X","O")) -> #REF! | N25: =IF(N27<=$C$5,"X",IF(M27>$C$5,"X","O")) -> #REF! | O25: =IF(O27<=$C$5,"X",IF(N27>$C$5,"X","O")) -> #REF! | P25: =IF(P27<=$C$5,"X",IF(O27>$C$5,"X","O")) -> #REF! | ... S25: =IF(S27<=$C$5,"X",IF(R27>$C$5,"X","O")) -> #REF!
G26: 판장3 | H26: =IF(I25="O","O","X") -> #REF! | I26: =IF(J25="O","O","X") -> #REF! | J26: =IF(K25="O","O","X") -> #REF! | K26: =IF(L25="O","O","X") -> #REF! | L26: =IF(M25="O","O","X") -> #REF! | M26: =IF(N25="O","O","X") -> #REF! | N26: =IF(O25="O","O","X") -> #REF! | O26: =IF(P25="O","O","X") -> #REF! | ... S26: =IF(T25="O","O","X") -> X
G27: 공사비(억원) | H27: 0.3 | I27: 0.5 | J27: 1 | K27: 2 | L27: 3 | M27: 5 | N27: 10 | O27: 20 | P27: 30 | Q27: 50 | R27: 100 | S27: 200 | T27: 200초과
G28: 고급기준(인·월) | H28: 0.8 | I28: 1.1 | J28: 1.9 | K28: 3.3 | L28: 4.5 | M28: 6.6 | N28: 11.2 | O28: 19 | P28: 26 | Q28: 38.5 | R28: 65.5 | S28: 111.3 | T28: =1.926*($C$5)^0.7658 -> #REF!
G29: 위성통신설비공사
G30: 판정2 | H30: =IF(H32<=$C$5,"X","O") -> #REF! | I30: =IF(I32<=$C$5,"X",IF(H32>$C$5,"X","O")) -> #REF! | J30: =IF(J32<=$C$5,"X",IF(I32>$C$5,"X","O")) -> #REF! | K30: =IF(K32<=$C$5,"X",IF(J32>$C$5,"X","O")) -> #REF! | L30: =IF(L32<=$C$5,"X",IF(K32>$C$5,"X","O")) -> #REF! | M30: =IF(M32<=$C$5,"X",IF(L32>$C$5,"X","O")) -> #REF! | N30: =IF(N32<=$C$5,"X",IF(M32>$C$5,"X","O")) -> #REF! | O30: =IF(O32<=$C$5,"X",IF(N32>$C$5,"X","O")) -> #REF! | P30: =IF(P32<=$C$5,"X",IF(O32>$C$5,"X","O")) -> #REF! | ... T30: =IF(T32<=$C$5,"X",IF(S32>$C$5,"X","O")) -> #REF!
G31: 판장3 | H31: =IF(I30="O","O","X") -> #REF! | I31: =IF(J30="O","O","X") -> #REF! | J31: =IF(K30="O","O","X") -> #REF! | K31: =IF(L30="O","O","X") -> #REF! | L31: =IF(M30="O","O","X") -> #REF! | M31: =IF(N30="O","O","X") -> #REF! | N31: =IF(O30="O","O","X") -> #REF! | O31: =IF(P30="O","O","X") -> #REF! | ... T31: =IF(U30="O","O","X") -> X
G32: 공사비(억원) | H32: 0.3 | I32: 0.5 | J32: 1 | K32: 2 | L32: 3 | M32: 5 | N32: 10 | O32: 20 | P32: 30 | Q32: 50 | R32: 100 | S32: 200 | T32: 300 | U32: 300초과
G33: 고급기준(인·월) | H33: 0.8 | I33: 1.1 | J33: 1.9 | K33: 3.3 | L33: 4.5 | M33: 6.6 | N33: 11.2 | O33: 19 | P33: 26 | Q33: 38.5 | R33: 65.5 | S33: 111.3 | T33: 151.8 | U33: =1.9249*($C$5)^0.7658 -> #REF!
G34: 고정무선통신설비공사
G35: 판정2 | H35: =IF(H37<=$C$5,"X","O") -> #REF! | I35: =IF(I37<=$C$5,"X",IF(H37>$C$5,"X","O")) -> #REF! | J35: =IF(J37<=$C$5,"X",IF(I37>$C$5,"X","O")) -> #REF! | K35: =IF(K37<=$C$5,"X",IF(J37>$C$5,"X","O")) -> #REF! | L35: =IF(L37<=$C$5,"X",IF(K37>$C$5,"X","O")) -> #REF! | M35: =IF(M37<=$C$5,"X",IF(L37>$C$5,"X","O")) -> #REF! | N35: =IF(N37<=$C$5,"X",IF(M37>$C$5,"X","O")) -> #REF! | O35: =IF(O37<=$C$5,"X",IF(N37>$C$5,"X","O")) -> #REF! | P35: =IF(P37<=$C$5,"X",IF(O37>$C$5,"X","O")) -> #REF! | ... S35: =IF(S37<=$C$5,"X",IF(R37>$C$5,"X","O")) -> #REF!
G36: 판장3 | H36: =IF(I35="O","O","X") -> #REF! | I36: =IF(J35="O","O","X") -> #REF! | J36: =IF(K35="O","O","X") -> #REF! | K36: =IF(L35="O","O","X") -> #REF! | L36: =IF(M35="O","O","X") -> #REF! | M36: =IF(N35="O","O","X") -> #REF! | N36: =IF(O35="O","O","X") -> #REF! | O36: =IF(P35="O","O","X") -> #REF! | ... S36: =IF(T35="O","O","X") -> X
G37: 공사비(억원) | H37: 0.3 | I37: 0.5 | J37: 1 | K37: 2 | L37: 3 | M37: 5 | N37: 10 | O37: 20 | P37: 30 | Q37: 50 | R37: 100 | S37: 200 | T37: 200초과
G38: 고급기준(인·월) | H38: 0.6 | I38: 0.9 | J38: 1.6 | K38: 2.7 | L38: 3.7 | M38: 5.4 | N38: 9.2 | O38: 15.6 | P38: 21.3 | Q38: 31.5 | R38: 53.6 | S38: 91.1 | T38: =1.5749*($C$5)^0.7658 -> #REF!
G39: 별정통신설비공사
G40: 판정2 | H40: =IF(H42<=$C$5,"X","O") -> #REF! | I40: =IF(I42<=$C$5,"X",IF(H42>$C$5,"X","O")) -> #REF! | J40: =IF(J42<=$C$5,"X",IF(I42>$C$5,"X","O")) -> #REF! | K40: =IF(K42<=$C$5,"X",IF(J42>$C$5,"X","O")) -> #REF! | L40: =IF(L42<=$C$5,"X",IF(K42>$C$5,"X","O")) -> #REF! | M40: =IF(M42<=$C$5,"X",IF(L42>$C$5,"X","O")) -> #REF! | N40: =IF(N42<=$C$5,"X",IF(M42>$C$5,"X","O")) -> #REF! | O40: =IF(O42<=$C$5,"X",IF(N42>$C$5,"X","O")) -> #REF! | P40: =IF(P42<=$C$5,"X",IF(O42>$C$5,"X","O")) -> #REF! | ... R40: =IF(R42<=$C$5,"X",IF(Q42>$C$5,"X","O")) -> #REF!
G41: 판장3 | H41: =IF(I40="O","O","X") -> #REF! | I41: =IF(J40="O","O","X") -> #REF! | J41: =IF(K40="O","O","X") -> #REF! | K41: =IF(L40="O","O","X") -> #REF! | L41: =IF(M40="O","O","X") -> #REF! | M41: =IF(N40="O","O","X") -> #REF! | N41: =IF(O40="O","O","X") -> #REF! | O41: =IF(P40="O","O","X") -> #REF! | ... R41: =IF(S40="O","O","X") -> X
...

Sheet 감리원배치기준(소방감리)
D2: 소방시설공사업법
I3: ■ 소방공사 감리의 종류[소방시설공사업법 시행령 별표3 소방공사 감리의 종류, 방법 및 대상
D4: 소방공사비 | E4: =#REF! -> #REF! | F4: 원(VAT 포함) | I4: 1. 상주 공사감리
E5: =#REF!/1.1/10^8 -> #REF! | F5: 억원 | I5: 1) 대상
D6: 공종구분 | E6: =IF(선택!H2=3,선택!H5,VLOOKUP(선택!H2,선택!G3:H5,2,0)) -> 해당없음 | I6: - 연면적 3만제곱미터 이상의 특정소방대상물(아파트는 제외한다)에 대한 소방시설의 공사
D7: 소방공사기간 | E7: 2 | F7: 개월 | I7: - 지하층을 포함한 층수가 16층 이상으로서 500세대 이상인 아파트에 대한 소방시설의 공사
D8: 기술자 배치기간 | E8: =IF(E6="상주공사감리",E7*22,IF(E6="일반공사감리",E7*30/7,0)) -> 0 | F8: 일 | I8: 2) 배치기준
I9: - 기계분야 감리원과 전기분야 감리원을 각 1명 이상 배치(단, 기계분야와 전기분야 의 자격을 함께 취득한 1인 이상 배치 가능)
D10: 산출인월수 | E10: =E8 -> 0 | F10: 일 | I10: - 소방시설용 배관(전선관을 포함)을 설치하거나 매립하는 때부터 소방시설 완검검사증명서를 발급받을 때까지 소방공사감리현장에 배치
I11: 2. 일반공사감리
A12: 판정1 | B12: 판정2 | I12: 1) 대상
A13: =IF(#REF!<=$E$5,"X","O") -> #REF! | B13: =IF(A14="O","O","X") -> #REF! | I13: - 상주 공사감리 외 소방시설의 공사
A14: =IF(#REF!<=$E$5,"X",IF(#REF!>$E$5,"X","O")) -> #REF! | B14: =IF(A15="O","O","X") -> #REF! | I14: 2) 배치기준
A15: =IF(#REF!<=$E$5,"X",IF(#REF!>$E$5,"X","O")) -> #REF! | B15: =IF(A16="O","O","X") -> #REF! | I15: - 기계분야 감리원과 전기분야 감리원을 각 1명 이상 배치(단, 기계분야와 전기분야 의 자격을 함께 취득한 1인 이상 배치 가능)
A16: =IF(#REF!<=$E$5,"X",IF(#REF!>$E$5,"X","O")) -> #REF! | B16: =IF(A17="O","O","X") -> #REF! | I16: - 주 1회 이상 현장배치
A17: =IF(#REF!<=$E$5,"X",IF(#REF!>$E$5,"X","O")) -> #REF! | B17: =IF(A18="O","O","X") -> #REF!
A18: =IF(#REF!<=$E$5,"X",IF(#REF!>$E$5,"X","O")) -> #REF! | B18: =IF(A19="O","O","X") -> #REF! | I18: ■ 소방감리원 배치기준
A19: =IF(#REF!<=$E$5,"X",IF(#REF!>$E$5,"X","O")) -> #REF! | B19: =IF(A20="O","O","X") -> #REF! | I19: 상주 공사감리 | J19: (연면적) | K19: 구분 | L19: 책임감리원 | M19: 보조감리원
A20: =IF(#REF!<=$E$5,"X",IF(#REF!>$E$5,"X","O")) -> #REF! | B20: =IF(A21="O","O","X") -> #REF! | J20: 200000 | K20: 이상 특정소방대상물 | L20: 소방기술사 | M20: 초급
A21: =IF(#REF!<=$E$5,"X",IF(#REF!>$E$5,"X","O")) -> #REF! | B21: =IF(A22="O","O","X") -> #REF! | J21: 40 | K21: 이상 특정소방대상물
A22: =IF(#REF!<=$E$5,"X",IF(#REF!>$E$5,"X","O")) -> #REF! | B22: =IF(A23="O","O","X") -> #REF! | J22: 30000 | K22: 이상 특정소방대상물(아파트 제외) | L22: 특급 | M22: 초급
A23: =IF(#REF!<=$E$5,"X",IF(#REF!>$E$5,"X","O")) -> #REF! | B23: =IF(A24="O","O","X") -> #REF! | J23: 16 | K23: 이상 특정소방대상물
A24: =IF(#REF!<=$E$5,"X",IF(#REF!>$E$5,"X","O")) -> #REF! | B24: =IF(A25="O","O","X") -> #REF! | J24: 30000 | K24: 이상 아파트 | L24: 고급 | M24: 초급
A25: =IF(#REF!<=$E$5,"X",IF(#REF!>$E$5,"X","O")) -> #REF! | B25: =IF(A26="O","O","X") -> #REF! | J25: 물분무등소화설비 또는 제연설비 설치 특정소방대상물
A26: =IF(#REF!<=$E$5,"X",IF(#REF!>$E$5,"X","O")) -> #REF! | B26: =IF(A27="O","O","X") -> #REF! | I26: 일반공사감리 | J26: 5000 | K26: 이상 특정소방대상물 | L26: 중급
A27: =IF(#REF!<=$E$5,"X",IF(#REF!>$E$5,"X","O")) -> #REF! | B27: =IF(A28="O","O","X") -> #REF! | J27: 5000 | K27: 이하 특정소방대상물, 또는 지하구 공사현장 | L27: 초급
A28: =IF(#REF!<=$E$5,"X",IF(#REF!>$E$5,"X","O")) -> #REF! | B28: =IF(A29="O","O","X") -> #REF!
A29: =IF(#REF!<=$E$5,"X",IF(#REF!>$E$5,"X","O")) -> #REF! | B29: =IF(A30="O","O","X") -> #REF! | I29: ■ 소방기술용역의 대가 기준 산정방식[소방시설공사업법 시행규칙 제21조]
A30: =IF(#REF!<=$E$5,"X",IF(#REF!>$E$5,"X","O")) -> #REF! | B30: =IF(A31="O","O","X") -> #REF! | I30: 1. 소방시설설계의 대가 : 엔지니어링사업의 대가 기준 중 통신부문의에 적요하는 공사비 요율 방식
A31: =IF(#REF!<=$E$5,"X",IF(#REF!>$E$5,"X","O")) -> #REF! | B31: =IF(A32="O","O","X") -> #REF! | I31: 2. 소방공사감리의 대가 : 엔지니어링사업의 대가 기준 중 실비정액가산방식
A32: =IF(#REF!<=$E$5,"X",IF(#REF!>$E$5,"X","O")) -> #REF! | B32: =IF(A33="O","O","X") -> #REF!
A33: =IF(#REF!<=$E$5,"X",IF(#REF!>$E$5,"X","O")) -> #REF! | B33: =IF(A34="O","O","X") -> #REF!
A34: =IF(#REF!<=$E$5,"X",IF(#REF!>$E$5,"X","O")) -> #REF! | B34: =IF(A35="O","O","X") -> #REF!
A35: =IF(#REF!<=$E$5,"X",IF(#REF!>$E$5,"X","O")) -> #REF! | B35: =IF(A36="O","O","X") -> #REF!
A36: =IF(#REF!<=$E$5,"X",IF(#REF!>$E$5,"X","O")) -> #REF! | B36: =IF(A37="O","O","X") -> #REF!
A37: =IF(#REF!<=$E$5,"X",IF(#REF!>$E$5,"X","O")) -> #REF! | B37: =IF(A38="O","O","X") -> #REF!
A38: =IF(#REF!<=$E$5,"X",IF(#REF!>$E$5,"X","O")) -> #REF! | B38: =IF(A39="O","O","X") -> #REF!
A39: =IF(#REF!<=$E$5,"X",IF(#REF!>$E$5,"X","O")) -> #REF! | B39: =IF(A40="O","O","X") -> #REF!
A40: =IF(#REF!<=$E$5,"X",IF(#REF!>$E$5,"X","O")) -> #REF! | B40: =IF(A41="O","O","X") -> #REF!
A41: =IF(#REF!<=$E$5,"X",IF(#REF!>$E$5,"X","O")) -> #REF! | B41: =IF(A42="O","O","X") -> #REF!
...

Sheet 인력배치계획
A1: 건설사업관리 인원배치계획표
A2: □ 용 역 명 : | D2: 서부정비창 신설 사업 건설사업관리용역(감독권한대행)
A3: □ 관리기간 : | D3: 38개월(설계 등 단계 2개월 + 시공단계 35개월 + 시공후단계 1개월)
A4: 구분 | C4: 분야 | D4: 등급 | E4: 1 | F4: 2 | G4: 3 | H4: 4 | I4: 5 | J4: 6 | K4: 7 | L4: 8 | M4: 9 | N4: 10 | O4: 11 | P4: 12 | Q4: 13 | R4: 14 | S4: 15 | T4: 16 | U4: 17 | V4: 18 | W4: 19 | X4: 20 | Y4: 21 | Z4: 22 | AA4: 23 | AB4: 24 | AC4: 25 | AD4: 26 | AE4: 27 | AF4: 28 | AG4: 29 | AH4: 30 | AI4: 31 | AJ4: 32 | AK4: 33 | AL4: 34 | AM4: 35 | AN4: 36 | AO4: 37 | AP4: 38 | AQ4: 투입 월수
E5: 설계 등 단계 | G5: 시공단계 | AP5: 시공후단계
A6: 상 주 | C6: 총괄책임(토목) | D6: 특급 | E6: 1 | F6: 1 | G6: 1 | H6: 1 | I6: 1 | J6: 1 | K6: 1 | L6: 1 | M6: 1 | N6: 1 | O6: 1 | P6: 1 | Q6: 1 | R6: 1 | S6: 1 | T6: 1 | U6: 1 | V6: 1 | W6: 1 | X6: 1 | Y6: 1 | Z6: 1 | AA6: 1 | AB6: 1 | AC6: 1 | AD6: 1 | AE6: 1 | AF6: 1 | AG6: 1 | AH6: 1 | AI6: 1 | AJ6: 1 | AK6: 1 | AL6: 1 | AM6: 1 | AN6: 1 | AO6: 1 | AP6: 1
C7: 토목 | D7: 고급 | E7: 1 | F7: 1 | M7: 1 | N7: 1 | O7: 1 | P7: 1 | Q7: 1 | R7: 1 | S7: 1 | T7: 1 | U7: 1 | V7: 1 | W7: 1 | X7: 1 | Y7: 1 | Z7: 1 | AA7: 1 | AB7: 1 | AC7: 1 | AD7: 1 | AE7: 1 | AF7: 1 | AG7: 1 | AH7: 1 | AI7: 1 | AJ7: 1 | AK7: 1 | AL7: 1 | AM7: 1 | AN7: 1 | AO7: 1
C8: 토목 | D8: 중급 | F8: 1 | G8: 1 | H8: 1 | I8: 1 | J8: 1 | K8: 1 | L8: 1 | M8: 1 | N8: 1 | O8: 1 | P8: 1 | Q8: 1 | R8: 1 | S8: 1 | AA8: 1 | AB8: 1 | AC8: 1 | AD8: 1 | AE8: 1 | AF8: 1 | AG8: 1 | AH8: 1 | AI8: 1 | AJ8: 1 | AK8: 1 | AL8: 1 | AM8: 1 | AN8: 1 | AO8: 1
C9: 토목 | D9: 초급 | O9: 1 | P9: 1 | Q9: 1 | R9: 1 | S9: 1 | T9: 1 | U9: 1 | V9: 1 | W9: 1 | X9: 1 | Y9: 1 | Z9: 1 | AA9: 1 | AB9: 1 | AC9: 1 | AD9: 1 | AE9: 1 | AF9: 1 | AG9: 1 | AH9: 1 | AI9: 1 | AJ9: 1 | AK9: 1 | AL9: 1 | AM9: 1 | AN9: 1 | AO9: 1
C10: 건축 | D10: 특급 | E10: 1 | G10: 1 | H10: 1 | I10: 1 | J10: 1 | K10: 1 | L10: 1 | M10: 1 | N10: 1 | O10: 1 | P10: 1 | Q10: 1 | R10: 1 | S10: 1 | T10: 1 | U10: 1 | V10: 1 | W10: 1 | X10: 1 | Y10: 1 | Z10: 1 | AA10: 1 | AB10: 1 | AC10: 1 | AD10: 1 | AE10: 1 | AF10: 1 | AG10: 1 | AH10: 1 | AI10: 1 | AJ10: 1 | AK10: 1 | AL10: 1 | AM10: 1 | AN10: 1 | AO10: 1
C11: 건축 | D11: 중급 | F11: 1 | K11: 1 | L11: 1 | M11: 1 | N11: 1 | O11: 1 | P11: 1 | Q11: 1 | R11: 1 | S11: 1 | T11: 1 | U11: 1 | V11: 1 | W11: 1 | X11: 1 | Y11: 1 | Z11: 1 | AA11: 1 | AB11: 1 | AC11: 1 | AD11: 1 | AE11: 1 | AF11: 1 | AG11: 1 | AH11: 1 | AI11: 1 | AJ11: 1 | AK11: 1 | AL11: 1 | AM11: 1 | AN11: 1 | AO11: 1
C12: 기계 | D12: 특급 | E12: 1 | F12: 1 | G12: 1 | H12: 1 | I12: 1 | J12: 1 | K12: 1 | L12: 1 | M12: 1 | N12: 1 | O12: 1 | P12: 1 | Q12: 1 | R12: 1 | S12: 1 | T12: 1 | U12: 1 | V12: 1 | AB12: 1 | AC12: 1 | AD12: 1 | AE12: 1 | AF12: 1 | AG12: 1 | AH12: 1 | AI12: 1 | AJ12: 1 | AK12: 1 | AL12: 1 | AM12: 1 | AN12: 1 | AO12: 1
C13: 조경 | D13: 중급 | F13: 1 | AB13: 1 | AC13: 1 | AD13: 1 | AE13: 1 | AF13: 1 | AG13: 1 | AH13: 1 | AI13: 1 | AJ13: 1 | AK13: 1 | AL13: 1 | AM13: 1 | AN13: 1 | AO13: 1
A14: 상주 소계
A15: 비 상 주 | C15: 토목 | D15: 특급기술자 | AQ15: 월1회 이상
C16: 건축 | D16: 특급기술자
C17: 기계 | D17: 특급기술자
C18: 조경 | D18: 특급기술자
A19: 비상주 소계
A20: 총계(상주+비상주)
A21: *배치계획은 추후 변경 가능

Sheet 공종
B1: 건설공종구분 | D1: 전력공종구분 | F1: 통신공사 | H1: 소방공사 | J1: 계약방법 | L1: 낙찰방법 | N1: 입찰장소 | P1: 차량 | R1: 사무원 | T1: 국제입찰 | V1: 적용법규 | X1: 지역업체참여 | Z1: 공사성격 | AB1: 용역종류 | AD1: 노랑칸 입력
A2: 1 | B2: 2 | D2: 2 | F2: 4 | H2: 2 | J2: 1 | L2: 1 | M2: 1 | N2: 1 | P2: 1 | R2: 1 | T2: 2 | V2: 1 | X2: 1 | Z2: 3 | AB2: 1
A3: 1 | B3: 단순한 공종 | C3: 1 | D3: 단순공종 | E3: 1 | F3: 선로설비공사 | G3: 1 | H3: 상주 공사감리 | I3: 1 | J3: PQ심사 | K3: 1 | L3: 적격 | M3: 1 | N3: 본청 | O3: 1 | P3: 미적용 | Q3: 1 | R3: 미적용 | S3: 1 | T3: 국내입찰 | U3: 1 | V3: 국가계약법 | W3: 1 | X3: 적용 | Y3: 1 | Z3: 토목선형 | AA3: 1 | AB3: 감독권한대행 등 건설사업관리
A4: 2 | B4: 보통의 공종 | C4: 2 | D4: 보통공종 | E4: 2 | F4: 교환설비공사 | G4: 2 | H4: 일반공사감리 | I4: 2 | J4: 일반경쟁 | K4: 2 | L4: 견적서제출 | M4: 2 | N4: 서울지방청 | O4: 2 | P4: 1,600cc 1대 | Q4: 2 | R4: 현지사무원 1인 | S4: 2 | T4: 국제입찰 | U4: 2 | V4: 지방계약법 | W4: 2 | X4: 미적용 | Y4: 2 | Z4: 토목비선형 | AA4: 2 | AB4: 건설사업관리
A5: 3 | B5: 복잡한 공종 | C5: 3 | D5: 복잡공종 | E5: 3 | F5: 전송설비공사 | G5: 3 | H5: 해당없음 | I5: 3 | J5: 제안서 | K5: 3 | L5: 최저가 | M5: 3 | N5: 부산지방청 | O5: 3 | P5: 1,600cc 2대 | Q5: 3 | R5: 보통인부 2인 | Y5: 3 | Z5: 플랜트Ⅰ(상하수도)
A6: 4 | B6: 해당없음 | C6: 4 | D6: 해당없음 | E6: 4 | F6: 구내통신설비공사 | I6: 4 | J6: 협상 | M6: 4 | N6: 인천지방청 | O6: 4 | P6: 2,000cc 1대 | Y6: 4 | Z6: 플랜트Ⅱ(발전시설)
E7: 5 | F7: 이동통신설비공사 | I7: 5 | J7: 실적제한 | M7: 5 | N7: 대구지방청 | O7: 5 | P7: 2,000cc 2대
E8: 6 | F8: 위성통신설비공사 | I8: 6 | J8: 수의계약 | M8: 6 | N8: 강원지방청
E9: 7 | F9: 고정무선통신설비공사 | I9: 7 | J9: 수의계약(소액) | M9: 7 | N9: 충북지방청
E10: 8 | F10: 별정통신설비공사 | I10: 8 | J10: 지역제한(서울) | M10: 8 | N10: 전북지방청
E11: 9 | F11: 방송국 설비공사 | I11: 9 | J11: 지역제한(부산) | M11: 9 | N11: 경남지방청
E12: 10 | F12: 방송 전송·선로설비공사 | I12: 10 | J12: 지역제한(대구) | M12: 10 | N12: 제주지방청
E13: 11 | F13: 정보제어·보안설비공사 | I13: 11 | J13: 지역제한(인천) | M13: 11 | N13: 대전지방청
E14: 12 | F14: 정보시스템 설비공사 | I14: 12 | J14: 지역제한(광주)
E15: 13 | F15: 정보매체 설비공사 | I15: 13 | J15: 지역제한(대전)
E16: 14 | F16: 철도 통신·신호설비공사 | I16: 14 | J16: 지역제한(울산)
E17: 15 | F17: 항공 및 항만통신설비공사 | I17: 15 | J17: 지역제한(경기)
E18: 16 | F18: 유시티설비공사 | I18: 16 | J18: 지역제한(경북)
E19: 17 | F19: 정보통신 전용 전기시설설비공사 | I19: 17 | J19: 지역제한(경남)
E20: 18 | F20: 해당없음 | I20: 18 | J20: 지역제한(충북)
I21: 19 | J21: 지역제한(충남)
I22: 20 | J22: 지역제한(강원)
I23: 21 | J23: 지역제한(전북)
I24: 22 | J24: 지역제한(전남)
I25: 23 | J25: 지역제한(제주)
I26: 24 | J26: 기타
